BEGIN:VCALENDAR
VERSION:2.0
CALSCALE:GREGORIAN
METHOD:PUBLISH
X-WR-TIMEZONE:Australia/Sydney
BEGIN:VTIMEZONE
TZID:Australia/Sydney
BEGIN:STANDARD
TZNAME:AEST
END:STANDARD
END:VTIMEZONE
BEGIN:VEVENT
DTSTART;TZID=Australia/Sydney:20210215
DTEND;TZID=Australia/Sydney:20210215
DTSTAMP:20260425T024653
UID:573
SUMMARY:Years 3-6 Swimming Carnival
DESCRIPTION:




Harold Holt Memorial Simming PoolHigh St, Glen Iris


SEQUENCE:0
STATUS:CONFIRMED
TRANSP:OPAQUE
END:VEVENT
END:VCALENDAR